BEGIN:VCALENDAR
VERSION:2.0
PRODID:-//Tukios.com/
BEGIN:VEVENT
UID:1d0bf30a-e030-4ee7-8be1-97f8e6b492e5@www.andersonfamilyfuneralhomes.com
DTSTAMP:20260421T005930Z
DTSTART:20260424T180000Z
DTEND:20260424T190000Z
SUMMARY:Burial
DESCRIPTION:
URL:https://www.andersonfamilyfuneralhomes.com/obituaries/thomas-varner
LOCATION: 15595 Croghan Pike  Shirleysburg PA 17260
GEO:40.3345376;-77.8667133
END:VEVENT
END:VCALENDAR