BEGIN:VCALENDAR
VERSION:2.0
PRODID:-//Tukios.com/
BEGIN:VEVENT
UID:780e6ee2-5ff9-4f29-9e16-d9779ff48bbd@www.andersonfamilyfuneralhomes.com
DTSTAMP:20260421T005546Z
DTSTART:20260424T170000Z
DTEND:20260424T180000Z
SUMMARY:Funeral Service
DESCRIPTION:
URL:https://www.andersonfamilyfuneralhomes.com/obituaries/thomas-varner
LOCATION:Heath-Anderson Funeral Home 61 East Shirley St.  Mt. Union PA 
	17066
GEO:40.3831982;-77.8800038
END:VEVENT
END:VCALENDAR