BEGIN:VCALENDAR
VERSION:2.0
PRODID:-//Tukios.com/
BEGIN:VEVENT
UID:d7ec0a6a-5210-4876-a533-ffe5a8331cd0@www.andersonfamilyfuneralhomes.com
DTSTAMP:20260421T005546Z
DTSTART:20260423T220000Z
DTEND:20260424T010000Z
SUMMARY:Visitation
DESCRIPTION:
URL:https://www.andersonfamilyfuneralhomes.com/obituaries/thomas-varner
LOCATION:Heath-Anderson Funeral Home 61 East Shirley St.  Mt. Union PA 
	17066
GEO:40.3831982;-77.8800038
END:VEVENT
END:VCALENDAR