BEGIN:VCALENDAR
VERSION:2.0
PRODID:-//Tukios.com/
BEGIN:VEVENT
UID:44c44ab0-41a1-405d-8f03-637ed057cbef@www.andersonfamilyfuneralhomes.com
DTSTAMP:20260421T233053Z
DTSTART:20260427T140000Z
DTEND:20260427T150000Z
SUMMARY:Visitation
DESCRIPTION:
URL:https://www.andersonfamilyfuneralhomes.com/obituaries/thelma-davis
LOCATION:First English Church 17 West 13th Street  Tyrone PA 16686
GEO:40.674125;-78.2380701
END:VEVENT
END:VCALENDAR