BEGIN:VCALENDAR
VERSION:2.0
PRODID:-//Tukios.com/
BEGIN:VEVENT
UID:ced4de2d-9931-4ae9-8a5e-e4f823aa290d@www.andersonfamilyfuneralhomes.com
DTSTAMP:20260419T224209Z
DTSTART:20260425T140000Z
DTEND:20260425T153000Z
SUMMARY:Visitation
DESCRIPTION:
URL:https://www.andersonfamilyfuneralhomes.com/obituaries/georgia-miller
LOCATION:Heath-Anderson Funeral Home 61 East Shirley St.  Mt. Union PA 
	17066
GEO:40.3831982;-77.8800038
END:VEVENT
END:VCALENDAR