BEGIN:VCALENDAR
VERSION:2.0
PRODID:-//Tukios.com/
BEGIN:VEVENT
UID:9a5becb8-daae-49cb-8b90-db5c1bb369a2@www.andersonfamilyfuneralhomes.com
DTSTAMP:20260424T032620Z
DTSTART:20260428T150000Z
DTEND:20260428T160000Z
SUMMARY:Mass
DESCRIPTION:
URL:https://www.andersonfamilyfuneralhomes.com/obituaries/amanda-ahles
LOCATION:St. Catherine of Siena Catholic Church 308 Old Rte 22  
	Duncansville PA 16635
GEO:40.421556;-78.4447864
END:VEVENT
END:VCALENDAR