BEGIN:VCALENDAR
VERSION:2.0
PRODID:-//Tukios.com/
BEGIN:VEVENT
UID:88762fcf-3272-4110-a345-03dc0e9a01cd@www.andersonfamilyfuneralhomes.com
DTSTAMP:20260424T032356Z
DTSTART:20260427T190000Z
DTEND:20260427T230000Z
SUMMARY:Viewing
DESCRIPTION:
URL:https://www.andersonfamilyfuneralhomes.com/obituaries/amanda-ahles
LOCATION:Anderson Family Funeral Home & Cremation Services 233 Keystone 
	Avenue  Cresson PA 16630
GEO:40.4637531;-78.5868553
END:VEVENT
END:VCALENDAR